﻿BEGIN:VCALENDAR
VERSION:2.0
PRODID:-//STPV | FR  | Schweizerischer Tambouren und Pfeifer Verband Websites Website - ECPv5.0.2.1//NONSGML v1.0//EN
CALSCALE:GREGORIAN
METHOD:PUBLISH
X-WR-CALNAME:STPV | FR  | Schweizerischer Tambouren und Pfeifer Verband Websites Website
X-ORIGINAL-URL:https://stpv-astf.ch/fr
X-WR-CALDESC:Events for STPV | FR  | Schweizerischer Tambouren und Pfeifer Verband Websites Website
BEGIN:VTIMEZONE
TZID:UTC
BEGIN:STANDARD
TZOFFSETFROM:+0000
TZOFFSETTO:+0000
TZNAME:UTC
DTSTART:20200101T000000
END:STANDARD
END:VTIMEZONE
BEGIN:VEVENT
DTSTART;VALUE=DATE:20200925
DTEND;VALUE=DATE:20200928
DTSTAMP:20260420T052446
CREATED:20190224T153500Z
LAST-MODIFIED:20191112T214910Z
UID:1002-1600992000-1601251199@stpv-astf.ch
SUMMARY:3ème fête fédérales des jeunes tambours et fifres – Aarau 2020
DESCRIPTION:La 3ème fête fédérale des jeunes tambours et fifres aura lieu à Aarau. Nous attendons des jeunes de toute la Suisse qui se présenteront devant le jury en tant que tambour ou fifre. \n  \nOrganisateur: Société EJTPF2020 Aarau (Erlinsbach\, Muhen-Oberentfelden\, Rothrist\, Lenzburg\, Ryburg-Möhlin\, Zofingen) \n  \nProgramme de concours \nPlan horaire                       \nListe des résultats         \nRapport du jury             \nPage d’accueil \n
URL:https://stpv-astf.ch/fr/event/3-eidg-jungtambouren-und-jungpfeiferfest/
CATEGORIES:Termine > STPV > Wettspiele
ATTACH;FMTTYPE=image/jpeg:https://stpv-astf.ch/fr/wp-content/uploads/sites/2/2019/02/0001.jpg
END:VEVENT
END:VCALENDAR