﻿BEGIN:VCALENDAR
VERSION:2.0
PRODID:-//STPV | FR  | Schweizerischer Tambouren und Pfeifer Verband Websites Website - ECPv5.0.2.1//NONSGML v1.0//EN
CALSCALE:GREGORIAN
METHOD:PUBLISH
X-WR-CALNAME:STPV | FR  | Schweizerischer Tambouren und Pfeifer Verband Websites Website
X-ORIGINAL-URL:https://stpv-astf.ch/fr
X-WR-CALDESC:Events for STPV | FR  | Schweizerischer Tambouren und Pfeifer Verband Websites Website
BEGIN:VTIMEZONE
TZID:UTC
BEGIN:STANDARD
TZOFFSETFROM:+0000
TZOFFSETTO:+0000
TZNAME:UTC
DTSTART:20210101T000000
END:STANDARD
END:VTIMEZONE
BEGIN:VEVENT
DTSTART;VALUE=DATE:20210904
DTEND;VALUE=DATE:20210906
DTSTAMP:20260419T233032
CREATED:20191116T173021Z
LAST-MODIFIED:20210617T083437Z
UID:1209-1630713600-1630886399@stpv-astf.ch
SUMMARY:Rencontre des vétérans 2021
DESCRIPTION:
URL:https://stpv-astf.ch/fr/event/rencontre-des-veterans-2020/
LOCATION:Rothrist\, Switzerland
ORGANIZER;CN="Veteranenvereinigung%20STPV":MAILTO:markus.estermann@santismail.ch
END:VEVENT
END:VCALENDAR