﻿BEGIN:VCALENDAR
VERSION:2.0
PRODID:-//STPV | FR  | Schweizerischer Tambouren und Pfeifer Verband Websites Website - ECPv5.0.2.1//NONSGML v1.0//EN
CALSCALE:GREGORIAN
METHOD:PUBLISH
X-WR-CALNAME:STPV | FR  | Schweizerischer Tambouren und Pfeifer Verband Websites Website
X-ORIGINAL-URL:https://stpv-astf.ch/fr
X-WR-CALDESC:Events for STPV | FR  | Schweizerischer Tambouren und Pfeifer Verband Websites Website
BEGIN:VTIMEZONE
TZID:UTC
BEGIN:STANDARD
TZOFFSETFROM:+0000
TZOFFSETTO:+0000
TZNAME:UTC
DTSTART:20220101T000000
END:STANDARD
END:VTIMEZONE
BEGIN:VEVENT
DTSTART;VALUE=DATE:20220807
DTEND;VALUE=DATE:20220814
DTSTAMP:20260419T171132
CREATED:20181002T151749Z
LAST-MODIFIED:20220323T173845Z
UID:1533-1659830400-1660435199@stpv-astf.ch
SUMMARY:OTV camp des jeunes tambours et fifres
DESCRIPTION:OTV camp de jeunes tambours et fifres 2022. \n
URL:https://stpv-astf.ch/fr/event/otv-jugendlager/
LOCATION:Elm\, Elm\, Switzerland
CATEGORIES:Termine > STPV > Kurse > Jugend
ORGANIZER;CN="OTV%20%28Ostschweizerischer%20Tambourenverband%29":MAILTO:sekretariat@otv.ch
END:VEVENT
END:VCALENDAR