﻿BEGIN:VCALENDAR
VERSION:2.0
PRODID:-//STPV | FR  | Schweizerischer Tambouren und Pfeifer Verband Websites Website - ECPv5.0.2.1//NONSGML v1.0//EN
CALSCALE:GREGORIAN
METHOD:PUBLISH
X-WR-CALNAME:STPV | FR  | Schweizerischer Tambouren und Pfeifer Verband Websites Website
X-ORIGINAL-URL:https://stpv-astf.ch/fr
X-WR-CALDESC:Events for STPV | FR  | Schweizerischer Tambouren und Pfeifer Verband Websites Website
BEGIN:VTIMEZONE
TZID:UTC
BEGIN:STANDARD
TZOFFSETFROM:+0000
TZOFFSETTO:+0000
TZNAME:UTC
DTSTART:20240101T000000
END:STANDARD
END:VTIMEZONE
BEGIN:VEVENT
DTSTART;VALUE=DATE:20240614
DTEND;VALUE=DATE:20240617
DTSTAMP:20260425T175938
CREATED:20220515T143852Z
LAST-MODIFIED:20230208T174956Z
UID:1786-1718323200-1718582399@stpv-astf.ch
SUMMARY:81ème fête des tambours et fifres du Haut-Valais 2023 à Eisten
DESCRIPTION:
URL:https://stpv-astf.ch/fr/event/fete-owtpv-2024-a-eisten/
CATEGORIES:Termine > OWTPV > Wettspiele
END:VEVENT
END:VCALENDAR